BEGIN:VCALENDAR
VERSION:2.0
PRODID:-//hacksw/handcal//NONSGML v1.0//EN
BEGIN:VEVENT
DTSTAMP:20260423T170000Z
DTSTART:20260423T170000Z
DTEND:20260423T200000Z
SUMMARY:Parlamentarischer Abend
END:VEVENT
END:VCALENDAR
