BEGIN:VCALENDAR
VERSION:2.0
PRODID:-//hacksw/handcal//NONSGML v1.0//EN
BEGIN:VEVENT
DTSTAMP:20260423T080000Z
DTSTART:20260423T080000Z
DTEND:20260423T150000Z
SUMMARY:Arbeitskreise Soziales
END:VEVENT
END:VCALENDAR
