BEGIN:VCALENDAR
VERSION:2.0
PRODID:-//hacksw/handcal//NONSGML v1.0//EN
BEGIN:VEVENT
DTSTAMP:20260324T180000Z
DTSTART:20260324T180000Z
DTEND:20260324T200000Z
SUMMARY:32. Lauenburg´scher Teller
END:VEVENT
END:VCALENDAR
