BEGIN:VCALENDAR
VERSION:2.0
PRODID:-//hacksw/handcal//NONSGML v1.0//EN
BEGIN:VEVENT
DTSTAMP:20260318T180000Z
DTSTART:20260318T180000Z
DTEND:20260318T200000Z
SUMMARY:Parlamentarischer Abend Handwerk Schleswig-Holstein e.V.
END:VEVENT
END:VCALENDAR
