BEGIN:VCALENDAR
VERSION:2.0
PRODID:-//hacksw/handcal//NONSGML v1.0//EN
BEGIN:VEVENT
DTSTAMP:20260307T090000Z
DTSTART:20260307T090000Z
DTEND:20260307T110000Z
SUMMARY:Aktion "Sauberes Schleswig-Holstein" in Aumühle
END:VEVENT
END:VCALENDAR
