BEGIN:VCALENDAR
VERSION:2.0
PRODID:-//hacksw/handcal//NONSGML v1.0//EN
BEGIN:VEVENT
DTSTAMP:20260301T230000Z
DTSTART:20260301T230000Z
DTEND:20260301T230000Z
SUMMARY:Anhörung Sozialausschuss: Social-Media
END:VEVENT
END:VCALENDAR
