BEGIN:VCALENDAR
VERSION:2.0
PRODID:-//hacksw/handcal//NONSGML v1.0//EN
BEGIN:VEVENT
DTSTAMP:20260228T170000Z
DTSTART:20260228T170000Z
DTEND:20260228T220000Z
SUMMARY:Königsball Sahms & Schwarzenbek
END:VEVENT
END:VCALENDAR
