BEGIN:VCALENDAR
VERSION:2.0
PRODID:-//hacksw/handcal//NONSGML v1.0//EN
BEGIN:VEVENT
DTSTAMP:20260227T140000Z
DTSTART:20260227T140000Z
DTEND:20260227T160000Z
SUMMARY:Sitzung Programmkommission CDU SH
END:VEVENT
END:VCALENDAR
