BEGIN:VCALENDAR
VERSION:2.0
PRODID:-//hacksw/handcal//NONSGML v1.0//EN
BEGIN:VEVENT
DTSTAMP:20260226T170000Z
DTSTART:20260226T170000Z
DTEND:20260226T190000Z
SUMMARY:Parlamentarischer Abend der Abfall- und Recyclingbranche Schleswig-Holstein
END:VEVENT
END:VCALENDAR
