BEGIN:VCALENDAR
VERSION:2.0
PRODID:-//hacksw/handcal//NONSGML v1.0//EN
BEGIN:VEVENT
DTSTAMP:20260225T080000Z
DTSTART:20260225T080000Z
DTEND:20260225T090000Z
SUMMARY: 4. Jahrestag des russischen Überfalls auf die Ukraine
END:VEVENT
END:VCALENDAR
