BEGIN:VCALENDAR
VERSION:2.0
PRODID:-//hacksw/handcal//NONSGML v1.0//EN
BEGIN:VEVENT
DTSTAMP:20260220T170000Z
DTSTART:20260220T170000Z
DTEND:20260220T193000Z
SUMMARY:Austausch mit der JU Herzogtum Lauenburg
END:VEVENT
END:VCALENDAR
