BEGIN:VCALENDAR
VERSION:2.0
PRODID:-//hacksw/handcal//NONSGML v1.0//EN
BEGIN:VEVENT
DTSTAMP:20260218T180000Z
DTSTART:20260218T180000Z
DTEND:20260218T190000Z
SUMMARY:Wahlkreisabendveranstaltung der CDU Herzogtum Lauenburg
END:VEVENT
END:VCALENDAR
