BEGIN:VCALENDAR
VERSION:2.0
PRODID:-//hacksw/handcal//NONSGML v1.0//EN
BEGIN:VEVENT
DTSTAMP:20260217T180000Z
DTSTART:20260217T180000Z
DTEND:20260217T210000Z
SUMMARY:CDU-FördeForum "Katastrophen- und Bevölkerungsschutz weiterdenken"
END:VEVENT
END:VCALENDAR
