BEGIN:VCALENDAR
VERSION:2.0
PRODID:-//hacksw/handcal//NONSGML v1.0//EN
BEGIN:VEVENT
DTSTAMP:20260216T230000Z
DTSTART:20260216T230000Z
DTEND:20260216T230000Z
SUMMARY:CDU-Fraktionstermine in Kiel
END:VEVENT
END:VCALENDAR
