BEGIN:VCALENDAR
VERSION:2.0
PRODID:-//hacksw/handcal//NONSGML v1.0//EN
BEGIN:VEVENT
DTSTAMP:20260213T120000Z
DTSTART:20260213T120000Z
DTEND:20260213T140000Z
SUMMARY:Festempfang 80 Jahre CDU SH
END:VEVENT
END:VCALENDAR
