BEGIN:VCALENDAR
VERSION:2.0
PRODID:-//hacksw/handcal//NONSGML v1.0//EN
BEGIN:VEVENT
DTSTAMP:20260210T180000Z
DTSTART:20260210T180000Z
DTEND:20260210T200000Z
SUMMARY:Austausch über einen Gottesbezug in der Landesverfassung
END:VEVENT
END:VCALENDAR
