BEGIN:VCALENDAR
VERSION:2.0
PRODID:-//hacksw/handcal//NONSGML v1.0//EN
BEGIN:VEVENT
DTSTAMP:20260212T160000Z
DTSTART:20260212T160000Z
DTEND:20260212T180000Z
SUMMARY:MIT Herzogtum Lauenburg | Grünkohlessen mit Daniel Günther
END:VEVENT
END:VCALENDAR
