BEGIN:VCALENDAR
VERSION:2.0
PRODID:-//hacksw/handcal//NONSGML v1.0//EN
BEGIN:VEVENT
DTSTAMP:20260211T090000Z
DTSTART:20260211T090000Z
DTEND:20260211T110000Z
SUMMARY:Austausch mit dem Behindertenbeauftragten der Stadt Lauenburg
END:VEVENT
END:VCALENDAR
