BEGIN:VCALENDAR
VERSION:2.0
PRODID:-//hacksw/handcal//NONSGML v1.0//EN
BEGIN:VEVENT
DTSTAMP:20260210T090000Z
DTSTART:20260210T090000Z
DTEND:20260210T160000Z
SUMMARY:Fraktionstermine 
END:VEVENT
END:VCALENDAR
