BEGIN:VCALENDAR
VERSION:2.0
PRODID:-//hacksw/handcal//NONSGML v1.0//EN
BEGIN:VEVENT
DTSTAMP:20260203T090000Z
DTSTART:20260203T090000Z
DTEND:20260203T120000Z
SUMMARY:Gremiensitzungen in Vorbereitung für den Zusammenarbeitsausschuss 
END:VEVENT
END:VCALENDAR
