BEGIN:VCALENDAR
VERSION:2.0
PRODID:-//hacksw/handcal//NONSGML v1.0//EN
BEGIN:VEVENT
DTSTAMP:20260204T083000Z
DTSTART:20260204T083000Z
DTEND:20260204T100000Z
SUMMARY:Arbeitskreis Innen und Recht
END:VEVENT
END:VCALENDAR
