BEGIN:VCALENDAR
VERSION:2.0
PRODID:-//hacksw/handcal//NONSGML v1.0//EN
BEGIN:VEVENT
DTSTAMP:20260203T180000Z
DTSTART:20260203T180000Z
DTEND:20260203T210000Z
SUMMARY:Politischer Gesprächsabend des CDU-Kreisverband
END:VEVENT
END:VCALENDAR
