BEGIN:VCALENDAR
VERSION:2.0
PRODID:-//hacksw/handcal//NONSGML v1.0//EN
BEGIN:VEVENT
DTSTAMP:20260129T180000Z
DTSTART:20260129T180000Z
DTEND:20260129T200000Z
SUMMARY:Parlamentarischer Abend
END:VEVENT
END:VCALENDAR
