BEGIN:VCALENDAR
VERSION:2.0
PRODID:-//hacksw/handcal//NONSGML v1.0//EN
BEGIN:VEVENT
DTSTAMP:20260125T100000Z
DTSTART:20260125T100000Z
DTEND:20260125T123000Z
SUMMARY:Neujahrsempfang Gemeinde Dassendorf
END:VEVENT
END:VCALENDAR
