BEGIN:VCALENDAR
VERSION:2.0
PRODID:-//hacksw/handcal//NONSGML v1.0//EN
BEGIN:VEVENT
DTSTAMP:20260121T230000Z
DTSTART:20260121T230000Z
DTEND:20260121T230000Z
SUMMARY:Arbeitskreise Soziales und Sozialauschuss
END:VEVENT
END:VCALENDAR
