BEGIN:VCALENDAR
VERSION:2.0
PRODID:-//hacksw/handcal//NONSGML v1.0//EN
BEGIN:VEVENT
DTSTAMP:20260116T173000Z
DTSTART:20260116T173000Z
DTEND:20260116T200000Z
SUMMARY:Neujahrsempfang der CDU in Aumühle 
END:VEVENT
END:VCALENDAR
