BEGIN:VCALENDAR
VERSION:2.0
PRODID:-//hacksw/handcal//NONSGML v1.0//EN
BEGIN:VEVENT
DTSTAMP:20260113T180000Z
DTSTART:20260113T180000Z
DTEND:20260113T200000Z
SUMMARY:Neujahrsempfang CDU-Ortsverband Mölln
END:VEVENT
END:VCALENDAR
