BEGIN:VCALENDAR
VERSION:2.0
PRODID:-//hacksw/handcal//NONSGML v1.0//EN
BEGIN:VEVENT
DTSTAMP:20260113T130000Z
DTSTART:20260113T130000Z
DTEND:20260113T160000Z
SUMMARY:Fraktionstermine
END:VEVENT
END:VCALENDAR
