BEGIN:VCALENDAR
VERSION:2.0
PRODID:-//hacksw/handcal//NONSGML v1.0//EN
BEGIN:VEVENT
DTSTAMP:20251218T100000Z
DTSTART:20251218T100000Z
DTEND:20251218T130000Z
SUMMARY:Arbeitskreis Soziales
END:VEVENT
END:VCALENDAR
