BEGIN:VCALENDAR
VERSION:2.0
PRODID:-//hacksw/handcal//NONSGML v1.0//EN
BEGIN:VEVENT
DTSTAMP:20251215T130000Z
DTSTART:20251215T130000Z
DTEND:20251216T120000Z
SUMMARY:Vorstandsklausur CDU-Landtagsfraktion
END:VEVENT
END:VCALENDAR
