BEGIN:VCALENDAR
VERSION:2.0
PRODID:-//hacksw/handcal//NONSGML v1.0//EN
BEGIN:VEVENT
DTSTAMP:20251215T110000Z
DTSTART:20251215T110000Z
DTEND:20251215T120000Z
SUMMARY:Arbeitskreis Soziales
END:VEVENT
END:VCALENDAR
