BEGIN:VCALENDAR
VERSION:2.0
PRODID:-//hacksw/handcal//NONSGML v1.0//EN
BEGIN:VEVENT
DTSTAMP:20251208T143000Z
DTSTART:20251208T143000Z
DTEND:20251208T163000Z
SUMMARY:Landesbeirat: Austausch zur UN-Behindertenrechtskonvention 
END:VEVENT
END:VCALENDAR
