BEGIN:VCALENDAR
VERSION:2.0
PRODID:-//hacksw/handcal//NONSGML v1.0//EN
BEGIN:VEVENT
DTSTAMP:20251206T090000Z
DTSTART:20251206T090000Z
DTEND:20251206T100000Z
SUMMARY: CDU Lauenburg: Infostand und Nikolausaktion auf dem Weihnachtsmarkt
END:VEVENT
END:VCALENDAR
