BEGIN:VCALENDAR
VERSION:2.0
PRODID:-//hacksw/handcal//NONSGML v1.0//EN
BEGIN:VEVENT
DTSTAMP:20251205T150000Z
DTSTART:20251205T150000Z
DTEND:20251205T170000Z
SUMMARY:Eröffnung des Lauenburger Weihnachtsmarktes
END:VEVENT
END:VCALENDAR
