BEGIN:VCALENDAR
VERSION:2.0
PRODID:-//hacksw/handcal//NONSGML v1.0//EN
BEGIN:VEVENT
DTSTAMP:20251205T090000Z
DTSTART:20251205T090000Z
DTEND:20251205T120000Z
SUMMARY:Preisverleihung Pflege-Leuchtturm
END:VEVENT
END:VCALENDAR
