BEGIN:VCALENDAR
VERSION:2.0
PRODID:-//hacksw/handcal//NONSGML v1.0//EN
BEGIN:VEVENT
DTSTAMP:20251202T100000Z
DTSTART:20251202T100000Z
DTEND:20251202T170000Z
SUMMARY:Fraktionstermine
END:VEVENT
END:VCALENDAR
