BEGIN:VCALENDAR
VERSION:2.0
PRODID:-//hacksw/handcal//NONSGML v1.0//EN
BEGIN:VEVENT
DTSTAMP:20251201T150000Z
DTSTART:20251201T150000Z
DTEND:20251201T190000Z
SUMMARY: Feuerwehr Brunstorf: Tag der offenen Tür (Tag der Feuerwehr SH)
END:VEVENT
END:VCALENDAR
