BEGIN:VCALENDAR
VERSION:2.0
PRODID:-//hacksw/handcal//NONSGML v1.0//EN
BEGIN:VEVENT
DTSTAMP:20251125T090000Z
DTSTART:20251125T090000Z
DTEND:20251125T100000Z
SUMMARY:Arbeitskreis Zusammenarbeit der Länder SH und HH
END:VEVENT
END:VCALENDAR
