BEGIN:VCALENDAR
VERSION:2.0
PRODID:-//hacksw/handcal//NONSGML v1.0//EN
BEGIN:VEVENT
DTSTAMP:20251130T110000Z
DTSTART:20251130T110000Z
DTEND:20251130T130000Z
SUMMARY:Feuerwehr Brunstorf - Adventszauber 
END:VEVENT
END:VCALENDAR
