BEGIN:VCALENDAR
VERSION:2.0
PRODID:-//hacksw/handcal//NONSGML v1.0//EN
BEGIN:VEVENT
DTSTAMP:20251129T110000Z
DTSTART:20251129T110000Z
DTEND:20251129T130000Z
SUMMARY:Weihnachtsmarkt Geesthacht
END:VEVENT
END:VCALENDAR
