BEGIN:VCALENDAR
VERSION:2.0
PRODID:-//hacksw/handcal//NONSGML v1.0//EN
BEGIN:VEVENT
DTSTAMP:20251125T110000Z
DTSTART:20251125T110000Z
DTEND:20251125T120000Z
SUMMARY:Koordinierungsgespräch mit den Arbeitskreisvorsitzenden der Fraktion
END:VEVENT
END:VCALENDAR
