BEGIN:VCALENDAR
VERSION:2.0
PRODID:-//hacksw/handcal//NONSGML v1.0//EN
BEGIN:VEVENT
DTSTAMP:20251124T140000Z
DTSTART:20251124T140000Z
DTEND:20251124T153000Z
SUMMARY:Fachpolitischer Sprechertermin - Berufsbildungswerk Bugenhagen
END:VEVENT
END:VCALENDAR
