BEGIN:VCALENDAR
VERSION:2.0
PRODID:-//hacksw/handcal//NONSGML v1.0//EN
BEGIN:VEVENT
DTSTAMP:20251128T160000Z
DTSTART:20251128T160000Z
DTEND:20251128T190000Z
SUMMARY:Zusammenarbeitsausschuss der Länder SH und Hamburg
END:VEVENT
END:VCALENDAR
