BEGIN:VCALENDAR
VERSION:2.0
PRODID:-//hacksw/handcal//NONSGML v1.0//EN
BEGIN:VEVENT
DTSTAMP:20251126T130000Z
DTSTART:20251126T130000Z
DTEND:20251126T150000Z
SUMMARY:Sozialausschuss mit dem Innen- und Rechtsausschuss 
END:VEVENT
END:VCALENDAR
