BEGIN:VCALENDAR
VERSION:2.0
PRODID:-//hacksw/handcal//NONSGML v1.0//EN
BEGIN:VEVENT
DTSTAMP:20251125T130000Z
DTSTART:20251125T130000Z
DTEND:20251125T160000Z
SUMMARY:CDU-Landtagsfraktion
END:VEVENT
END:VCALENDAR
