BEGIN:VCALENDAR
VERSION:2.0
PRODID:-//hacksw/handcal//NONSGML v1.0//EN
BEGIN:VEVENT
DTSTAMP:20251120T173000Z
DTSTART:20251120T173000Z
DTEND:20251120T203000Z
SUMMARY:Landes-Arbeitsgemeinschaft der freien Wohlfahrtsverbände
END:VEVENT
END:VCALENDAR
