BEGIN:VCALENDAR
VERSION:2.0
PRODID:-//hacksw/handcal//NONSGML v1.0//EN
BEGIN:VEVENT
DTSTAMP:20251118T230000Z
DTSTART:20251118T230000Z
DTEND:20251118T230000Z
SUMMARY:Plenarsitzung des Landtages
END:VEVENT
END:VCALENDAR
