BEGIN:VCALENDAR
VERSION:2.0
PRODID:-//hacksw/handcal//NONSGML v1.0//EN
BEGIN:VEVENT
DTSTAMP:20251117T090000Z
DTSTART:20251117T090000Z
DTEND:20251117T110000Z
SUMMARY:Vorleseaktion im Familienzentrum Geesthacht
END:VEVENT
END:VCALENDAR
