BEGIN:VCALENDAR
VERSION:2.0
PRODID:-//hacksw/handcal//NONSGML v1.0//EN
BEGIN:VEVENT
DTSTAMP:20251116T140000Z
DTSTART:20251116T140000Z
DTEND:20251116T160000Z
SUMMARY:Volkstrauertag | Gedenkveranstaltung der Stadt Lauenburg
END:VEVENT
END:VCALENDAR
