BEGIN:VCALENDAR
VERSION:2.0
PRODID:-//hacksw/handcal//NONSGML v1.0//EN
BEGIN:VEVENT
DTSTAMP:20251113T130000Z
DTSTART:20251113T130000Z
DTEND:20251113T170000Z
LOCATION:Landeshaus, Kiel, Deutschland
SUMMARY:Ehrung und Auszeichnung von 80 Soldatinnen und Soldaten
END:VEVENT
END:VCALENDAR
